BEGIN:VCALENDAR
VERSION:2.0
PRODID:-//Peconic Estuary Partnership - ECPv6.15.20//NONSGML v1.0//EN
CALSCALE:GREGORIAN
METHOD:PUBLISH
X-WR-CALNAME:Peconic Estuary Partnership
X-ORIGINAL-URL:https://www.peconicestuary.org
X-WR-CALDESC:Events for Peconic Estuary Partnership
REFRESH-INTERVAL;VALUE=DURATION:PT1H
X-Robots-Tag:noindex
X-PUBLISHED-TTL:PT1H
BEGIN:VTIMEZONE
TZID:America/New_York
BEGIN:DAYLIGHT
TZOFFSETFROM:-0500
TZOFFSETTO:-0400
TZNAME:EDT
DTSTART:20250309T070000
END:DAYLIGHT
BEGIN:STANDARD
TZOFFSETFROM:-0400
TZOFFSETTO:-0500
TZNAME:EST
DTSTART:20251102T060000
END:STANDARD
BEGIN:DAYLIGHT
TZOFFSETFROM:-0500
TZOFFSETTO:-0400
TZNAME:EDT
DTSTART:20260308T070000
END:DAYLIGHT
BEGIN:STANDARD
TZOFFSETFROM:-0400
TZOFFSETTO:-0500
TZNAME:EST
DTSTART:20261101T060000
END:STANDARD
BEGIN:DAYLIGHT
TZOFFSETFROM:-0500
TZOFFSETTO:-0400
TZNAME:EDT
DTSTART:20270314T070000
END:DAYLIGHT
BEGIN:STANDARD
TZOFFSETFROM:-0400
TZOFFSETTO:-0500
TZNAME:EST
DTSTART:20271107T060000
END:STANDARD
END:VTIMEZONE
BEGIN:VEVENT
DTSTART;TZID=America/New_York:20260328T100000
DTEND;TZID=America/New_York:20260328T120000
DTSTAMP:20260422T083148
CREATED:20260210T185714Z
LAST-MODIFIED:20260210T185715Z
UID:12923-1774692000-1774699200@www.peconicestuary.org
SUMMARY:Septic Improvement Presentation | East Quogue Civic
DESCRIPTION:Learn about why you should upgrade your septic system to an Innovative Alternative (I/A) Onsite Wastewater Treatment System (OWTS) and how you can utilize grant funding for financial assistance upgrading. 
URL:https://www.peconicestuary.org/event/septic-improvement-presentation-east-quogue-civic/
LOCATION:East Quogue Elementary School 6 Central Ave\, East Quogue\, NY 11942
END:VEVENT
END:VCALENDAR