BEGIN:VCALENDAR
VERSION:2.0
PRODID:-//Peconic Estuary Partnership - ECPv6.15.20//NONSGML v1.0//EN
CALSCALE:GREGORIAN
METHOD:PUBLISH
X-ORIGINAL-URL:https://www.peconicestuary.org
X-WR-CALDESC:Events for Peconic Estuary Partnership
REFRESH-INTERVAL;VALUE=DURATION:PT1H
X-Robots-Tag:noindex
X-PUBLISHED-TTL:PT1H
BEGIN:VTIMEZONE
TZID:America/New_York
BEGIN:DAYLIGHT
TZOFFSETFROM:-0500
TZOFFSETTO:-0400
TZNAME:EDT
DTSTART:20250309T070000
END:DAYLIGHT
BEGIN:STANDARD
TZOFFSETFROM:-0400
TZOFFSETTO:-0500
TZNAME:EST
DTSTART:20251102T060000
END:STANDARD
BEGIN:DAYLIGHT
TZOFFSETFROM:-0500
TZOFFSETTO:-0400
TZNAME:EDT
DTSTART:20260308T070000
END:DAYLIGHT
BEGIN:STANDARD
TZOFFSETFROM:-0400
TZOFFSETTO:-0500
TZNAME:EST
DTSTART:20261101T060000
END:STANDARD
BEGIN:DAYLIGHT
TZOFFSETFROM:-0500
TZOFFSETTO:-0400
TZNAME:EDT
DTSTART:20270314T070000
END:DAYLIGHT
BEGIN:STANDARD
TZOFFSETFROM:-0400
TZOFFSETTO:-0500
TZNAME:EST
DTSTART:20271107T060000
END:STANDARD
END:VTIMEZONE
BEGIN:VEVENT
DTSTART;TZID=America/New_York:20260314T100000
DTEND;TZID=America/New_York:20260314T120000
DTSTAMP:20260420T050706
CREATED:20260305T201511Z
LAST-MODIFIED:20260305T201513Z
UID:12947-1773482400-1773489600@www.peconicestuary.org
SUMMARY:Winter Watershed Walk
DESCRIPTION:Join Peconic Baykeeper and Peconic Estuary Partnership for their fourth year of Winter Watershed Walk Series! This year’s series features four new and different locations around the Peconic Estuary. \n\n\n\nDriving instructions and parking details will be sent out prior to the walk.  \n\n\n\nRegister Here: https://www.google.com/url?q=https://docs.google.com/forms/d/e/1FAIpQLSd8NIR6M3_z7i2KAByLsAZqdGr459gI-DjkIeb6kFjmcZPl7w/viewform&sa=D&source=calendar&ust=1773173405242056&usg=AOvVaw1arfbYQGumXjVeaApiYQGM
URL:https://www.peconicestuary.org/event/winter-watershed-walk/
LOCATION:Mashomack Preserve\, 79 S Ferry Rd\, Shelter Island\, New York\, 11964\, United States
END:VEVENT
END:VCALENDAR